BEGIN:VCALENDAR
VERSION:2.0
PRODID:-//Prince Edward County Municipal Services - ECPv6.15.20//NONSGML v1.0//EN
CALSCALE:GREGORIAN
METHOD:PUBLISH
X-WR-CALNAME:Prince Edward County Municipal Services
X-ORIGINAL-URL:https://www.thecounty.ca
X-WR-CALDESC:Events for Prince Edward County Municipal Services
REFRESH-INTERVAL;VALUE=DURATION:PT1H
X-Robots-Tag:noindex
X-PUBLISHED-TTL:PT1H
BEGIN:VTIMEZONE
TZID:America/Toronto
BEGIN:DAYLIGHT
TZOFFSETFROM:-0500
TZOFFSETTO:-0400
TZNAME:EDT
DTSTART:20220313T070000
END:DAYLIGHT
BEGIN:STANDARD
TZOFFSETFROM:-0400
TZOFFSETTO:-0500
TZNAME:EST
DTSTART:20221106T060000
END:STANDARD
BEGIN:DAYLIGHT
TZOFFSETFROM:-0500
TZOFFSETTO:-0400
TZNAME:EDT
DTSTART:20230312T070000
END:DAYLIGHT
BEGIN:STANDARD
TZOFFSETFROM:-0400
TZOFFSETTO:-0500
TZNAME:EST
DTSTART:20231105T060000
END:STANDARD
BEGIN:DAYLIGHT
TZOFFSETFROM:-0500
TZOFFSETTO:-0400
TZNAME:EDT
DTSTART:20240310T070000
END:DAYLIGHT
BEGIN:STANDARD
TZOFFSETFROM:-0400
TZOFFSETTO:-0500
TZNAME:EST
DTSTART:20241103T060000
END:STANDARD
END:VTIMEZONE
BEGIN:VEVENT
DTSTART;TZID=America/Toronto:20230629T190000
DTEND;TZID=America/Toronto:20230629T210000
DTSTAMP:20260422T135253
CREATED:20230609T160848Z
LAST-MODIFIED:20230609T160848Z
UID:39471-1688065200-1688072400@www.thecounty.ca
SUMMARY:Haymaker Comedy Festival
DESCRIPTION:Haymaker 2023 features some of the top stand-up comics in the country performing at the newly renovated Sergeants Mess Hall at Base31. \nThe Sergeants Mess Hall offers General chair seating or Preferred seating at a cabaret-style table. \n$35 General | $55 Preferred Table Seating \nShows start at 7:00pm with an extra show July 1st at 9:00pm \nFor tickets or information visit: https://countystage.ca/haymaker-festival-2023 \n  \nThe County of Prince Edward does not accept responsibility for the accuracy of the content provided in this listing\, nor does inclusion in the PECelebrates calendar constitute endorsement by the County. The listing information has been provided by event organizers. If you have questions about this event\, please contact the organizers directly.
URL:https://www.thecounty.ca/event/haymaker-comedy-festival-3/2023-06-29/
LOCATION:Base 31\, 26-343\, County Rd 22 Building 26\, Picton\, Ontario\, K0K 2T0\, Canada
CATEGORIES:PECelebrates
ATTACH;FMTTYPE=image/png:https://www.thecounty.ca/wp-content/uploads/2023/06/haymaker.png
ORGANIZER;CN="County Stage Company":MAILTO:info@countystage.ca
END:VEVENT
END:VCALENDAR