BEGIN:VCALENDAR
VERSION:2.0
PRODID:-//Prince Edward County Municipal Services - ECPv6.15.20//NONSGML v1.0//EN
CALSCALE:GREGORIAN
METHOD:PUBLISH
X-ORIGINAL-URL:https://www.thecounty.ca
X-WR-CALDESC:Events for Prince Edward County Municipal Services
REFRESH-INTERVAL;VALUE=DURATION:PT1H
X-Robots-Tag:noindex
X-PUBLISHED-TTL:PT1H
BEGIN:VTIMEZONE
TZID:America/Toronto
BEGIN:DAYLIGHT
TZOFFSETFROM:-0500
TZOFFSETTO:-0400
TZNAME:EDT
DTSTART:20220313T070000
END:DAYLIGHT
BEGIN:STANDARD
TZOFFSETFROM:-0400
TZOFFSETTO:-0500
TZNAME:EST
DTSTART:20221106T060000
END:STANDARD
BEGIN:DAYLIGHT
TZOFFSETFROM:-0500
TZOFFSETTO:-0400
TZNAME:EDT
DTSTART:20230312T070000
END:DAYLIGHT
BEGIN:STANDARD
TZOFFSETFROM:-0400
TZOFFSETTO:-0500
TZNAME:EST
DTSTART:20231105T060000
END:STANDARD
BEGIN:DAYLIGHT
TZOFFSETFROM:-0500
TZOFFSETTO:-0400
TZNAME:EDT
DTSTART:20240310T070000
END:DAYLIGHT
BEGIN:STANDARD
TZOFFSETFROM:-0400
TZOFFSETTO:-0500
TZNAME:EST
DTSTART:20241103T060000
END:STANDARD
END:VTIMEZONE
BEGIN:VEVENT
DTSTART;TZID=America/Toronto:20230422T090000
DTEND;TZID=America/Toronto:20230422T140000
DTSTAMP:20260422T150902
CREATED:20230328T135047Z
LAST-MODIFIED:20230922T190610Z
UID:36718-1682154000-1682172000@www.thecounty.ca
SUMMARY:Hazardous & Electronic Waste Mobile Event
DESCRIPTION:Quinte Waste Solutions has published the 2023 calendar for household hazardous waste disposal events. Events will take place in April\, June\, August and October. \nCounty residents can drop household hazardous and electronic waste free of charge. The event takes place at 75 County Road 1 (Sandy Hook Road). \nHousehold hazardous waste can be found in almost every room of your home. These products\, if thrown in the garbage or poured down the drain\, can have negative effects on the environment including an impact on groundwater and surface water such as creeks\, rivers\, and lakes. \nClick here to see a full list of items that are accepted at mobile household hazardous waste mobile drop-off events. \nPlease note that used motor oil and scrap metal are not accepted at QWS mobile drop off events. Motor oil must be dropped at the hazardous waste depot in Belleville. Operating hours are available on the Quinte Waste Solutions website.
URL:https://www.thecounty.ca/event/hazardous-electronic-waste-mobile-event/2023-04-22/
LOCATION:75 County Road 1 (Sandy Hook Road)\, 75 County Road 1\, Picton\, Ontario\, K0K2T0\, Canada
CATEGORIES:Environment
ATTACH;FMTTYPE=image/png:https://www.thecounty.ca/wp-content/uploads/2022/04/Sustainability-Hub-Social-Graphic-3.png
END:VEVENT
END:VCALENDAR