BEGIN:VCALENDAR
VERSION:2.0
PRODID:-//Prince Edward County Municipal Services - ECPv6.15.18//NONSGML v1.0//EN
CALSCALE:GREGORIAN
METHOD:PUBLISH
X-ORIGINAL-URL:https://www.thecounty.ca
X-WR-CALDESC:Events for Prince Edward County Municipal Services
REFRESH-INTERVAL;VALUE=DURATION:PT1H
X-Robots-Tag:noindex
X-PUBLISHED-TTL:PT1H
BEGIN:VTIMEZONE
TZID:America/Toronto
BEGIN:DAYLIGHT
TZOFFSETFROM:-0500
TZOFFSETTO:-0400
TZNAME:EDT
DTSTART:20210314T070000
END:DAYLIGHT
BEGIN:STANDARD
TZOFFSETFROM:-0400
TZOFFSETTO:-0500
TZNAME:EST
DTSTART:20211107T060000
END:STANDARD
BEGIN:DAYLIGHT
TZOFFSETFROM:-0500
TZOFFSETTO:-0400
TZNAME:EDT
DTSTART:20220313T070000
END:DAYLIGHT
BEGIN:STANDARD
TZOFFSETFROM:-0400
TZOFFSETTO:-0500
TZNAME:EST
DTSTART:20221106T060000
END:STANDARD
BEGIN:DAYLIGHT
TZOFFSETFROM:-0500
TZOFFSETTO:-0400
TZNAME:EDT
DTSTART:20230312T070000
END:DAYLIGHT
BEGIN:STANDARD
TZOFFSETFROM:-0400
TZOFFSETTO:-0500
TZNAME:EST
DTSTART:20231105T060000
END:STANDARD
END:VTIMEZONE
BEGIN:VEVENT
DTSTART;TZID=America/Toronto:20220827T130000
DTEND;TZID=America/Toronto:20220827T160000
DTSTAMP:20260420T054324
CREATED:20220610T185617Z
LAST-MODIFIED:20220610T185617Z
UID:24769-1661605200-1661616000@www.thecounty.ca
SUMMARY:Paranormal Activity
DESCRIPTION:There’s been something strange in our neighbourhood.\n\nJoin The Paranormal Seekers as they present their findings on potential paranormal activity at Macaulay Heritage Park. Findings that were gathered during a spooky overnight stay…\n\nThe Paranormal Seekers are a paranormal investigative group that specializes in historic locations and afterlife awareness\, from the Durham Region (operating out of Oshawa for the past 18 years). They investigate reported haunted locations and activity by using various methods: Psychic Mediums\, scientific equipment\, and research.\n\nTheir main goals are to bring history forward\, giving back the identities and stories of those who have passed and to educate others about the paranormal. The team has investigated many places\, including Parkwood Estate (Oshawa)\, Lang Pioneer Village Museum (Keene)\, the Regent Theatre (Picton)\, U.E.L. Heritage Centre (Adolphustown) and Merrill House (Picton)\, just to name a few. They were also been featured on The Marilyn Denis Show  among other productions and publications throughout the years.\n\nThe presentation starts at 1 pm\, and tickets are $10. They can be purchased at www.ticketscene.ca (search “Paranormal”).
URL:https://www.thecounty.ca/event/paranormal-activity/
LOCATION:Macaulay Heritage Park\, 23 Church Street\, Picton\, Ontario\, K0K 2T0\, Canada
ATTACH;FMTTYPE=image/jpeg:https://www.thecounty.ca/wp-content/uploads/2022/06/Paranormal-.jpeg
ORGANIZER;CN="The County Museums":MAILTO:jchase@pecounty.on.ca
END:VEVENT
END:VCALENDAR