BEGIN:VCALENDAR
VERSION:2.0
PRODID:-//Prince Edward County Municipal Services - ECPv6.15.20//NONSGML v1.0//EN
CALSCALE:GREGORIAN
METHOD:PUBLISH
X-WR-CALNAME:Prince Edward County Municipal Services
X-ORIGINAL-URL:https://www.thecounty.ca
X-WR-CALDESC:Events for Prince Edward County Municipal Services
REFRESH-INTERVAL;VALUE=DURATION:PT1H
X-Robots-Tag:noindex
X-PUBLISHED-TTL:PT1H
BEGIN:VTIMEZONE
TZID:America/Toronto
BEGIN:DAYLIGHT
TZOFFSETFROM:-0500
TZOFFSETTO:-0400
TZNAME:EDT
DTSTART:20210314T070000
END:DAYLIGHT
BEGIN:STANDARD
TZOFFSETFROM:-0400
TZOFFSETTO:-0500
TZNAME:EST
DTSTART:20211107T060000
END:STANDARD
BEGIN:DAYLIGHT
TZOFFSETFROM:-0500
TZOFFSETTO:-0400
TZNAME:EDT
DTSTART:20220313T070000
END:DAYLIGHT
BEGIN:STANDARD
TZOFFSETFROM:-0400
TZOFFSETTO:-0500
TZNAME:EST
DTSTART:20221106T060000
END:STANDARD
BEGIN:DAYLIGHT
TZOFFSETFROM:-0500
TZOFFSETTO:-0400
TZNAME:EDT
DTSTART:20230312T070000
END:DAYLIGHT
BEGIN:STANDARD
TZOFFSETFROM:-0400
TZOFFSETTO:-0500
TZNAME:EST
DTSTART:20231105T060000
END:STANDARD
END:VTIMEZONE
BEGIN:VEVENT
DTSTART;TZID=America/Toronto:20221014T180000
DTEND;TZID=America/Toronto:20221015T203000
DTSTAMP:20260423T061437
CREATED:20220912T183147Z
LAST-MODIFIED:20220912T183147Z
UID:28850-1665770400-1665865800@www.thecounty.ca
SUMMARY:Creepy Doll Museum
DESCRIPTION:Halloween is almost here\, and that means that the Creepy Doll Museum guest curators will be taking over for TWO DAYS ONLY at Wellington Heritage Museum with their collection of unusual discarded and donated dolls\, each accompanied by its own story!\n\nThe Creepy Doll Museum has been featured in local media\, as well as on CBC Radio’s Ontario Morning and As It Happens. Don’t miss this sought after travelling exhibit!\n\nAdmission is by donation at the door\, with a suggested donation of $10
URL:https://www.thecounty.ca/event/creepy-doll-museum/2022-10-14/
LOCATION:Wellingotn Heritage Museum\, 290 Wellington Main St.\, Wellington\, ON\, K0K 3L0\, Canada
ATTACH;FMTTYPE=image/jpeg:https://www.thecounty.ca/wp-content/uploads/2022/09/creepy-doll-museum-Facebook-Event-Cover-1.jpg
ORGANIZER;CN="The County Museums":MAILTO:jchase@pecounty.on.ca
END:VEVENT
BEGIN:VEVENT
DTSTART;TZID=America/Toronto:20221015T080000
DTEND;TZID=America/Toronto:20221015T160000
DTSTAMP:20260423T061437
CREATED:20221003T143625Z
LAST-MODIFIED:20221003T143625Z
UID:30355-1665820800-1665849600@www.thecounty.ca
SUMMARY:Mulch Giveaway
DESCRIPTION:The County is excited to announce an inaugural mulch giveaway program at the South Marysburgh landfill.  The program uses the large quantities of brush the County receives at the waste sites. The intent of the program is to reduce disposal costs\, improve waste diversion through beneficial re-use\, and to provide residents with the beneficial mulch product. \nThe program will commence on Saturday October 15\, 2022. Mulch will be available while supplies last between 8 am and 4 pm during regular operations of the landfill.  The program will remain in operation each Saturday while supplies last. \nThe mulch giveaway is self-serve. Residents who wish to participate will need to bring their own containers/trailers and shovels/pitch forks.
URL:https://www.thecounty.ca/event/mulch-giveaway/2022-10-15/
LOCATION:South Marysburgh Landfill\, 1132 Old Milford Road\, Prince Edward\, Ontario\, K0K2T0\, Canada
CATEGORIES:Environment
ATTACH;FMTTYPE=image/png:https://www.thecounty.ca/wp-content/uploads/2022/10/Mulch-Pile.png
END:VEVENT
BEGIN:VEVENT
DTSTART;TZID=America/Toronto:20221015T100000
DTEND;TZID=America/Toronto:20221015T160000
DTSTAMP:20260423T061437
CREATED:20220912T184941Z
LAST-MODIFIED:20220912T184941Z
UID:28938-1665828000-1665849600@www.thecounty.ca
SUMMARY:Advanced Voting Day
DESCRIPTION:You can vote in advance at your assigned\, ward-specific voting location on Saturday\, October 15 from 10 am – 4 pm. Voting day is Monday\, October 24. \nWhat to bring if you’re voting in person: \n\nYour Voter Notification Card\nProof of Identity and Qualifying Address (A complete list of accepted voter identification can be found here)\n\nVisit the County website to see the voting locations \nLearn more about the 2022 municipal and school board elections
URL:https://www.thecounty.ca/event/advanced-voting-day/
LOCATION:Ontario
ATTACH;FMTTYPE=image/jpeg:https://www.thecounty.ca/wp-content/uploads/2022/09/Voting.jpg
END:VEVENT
END:VCALENDAR