BEGIN:VCALENDAR
VERSION:2.0
PRODID:-//Prince Edward County Municipal Services - ECPv6.15.18//NONSGML v1.0//EN
CALSCALE:GREGORIAN
METHOD:PUBLISH
X-WR-CALNAME:Prince Edward County Municipal Services
X-ORIGINAL-URL:https://www.thecounty.ca
X-WR-CALDESC:Events for Prince Edward County Municipal Services
REFRESH-INTERVAL;VALUE=DURATION:PT1H
X-Robots-Tag:noindex
X-PUBLISHED-TTL:PT1H
BEGIN:VTIMEZONE
TZID:America/Toronto
BEGIN:DAYLIGHT
TZOFFSETFROM:-0500
TZOFFSETTO:-0400
TZNAME:EDT
DTSTART:20230312T070000
END:DAYLIGHT
BEGIN:STANDARD
TZOFFSETFROM:-0400
TZOFFSETTO:-0500
TZNAME:EST
DTSTART:20231105T060000
END:STANDARD
BEGIN:DAYLIGHT
TZOFFSETFROM:-0500
TZOFFSETTO:-0400
TZNAME:EDT
DTSTART:20240310T070000
END:DAYLIGHT
BEGIN:STANDARD
TZOFFSETFROM:-0400
TZOFFSETTO:-0500
TZNAME:EST
DTSTART:20241103T060000
END:STANDARD
BEGIN:DAYLIGHT
TZOFFSETFROM:-0500
TZOFFSETTO:-0400
TZNAME:EDT
DTSTART:20250309T070000
END:DAYLIGHT
BEGIN:STANDARD
TZOFFSETFROM:-0400
TZOFFSETTO:-0500
TZNAME:EST
DTSTART:20251102T060000
END:STANDARD
END:VTIMEZONE
BEGIN:VEVENT
DTSTART;TZID=America/Toronto:20240715T180000
DTEND;TZID=America/Toronto:20240715T200000
DTSTAMP:20260419T082833
CREATED:20240710T143034Z
LAST-MODIFIED:20240710T143034Z
UID:50580-1721066400-1721073600@www.thecounty.ca
SUMMARY:2024 Parkland Projects - Ameliasburgh Ward Public Meetings
DESCRIPTION:Public Meetings Scheduled for Ameliasburgh Ward! \nWhat are Parkland Projects/Funds? \nRecently\, the province requested that municipalities use funds sitting in Parkland Reserves. This fund consists of payments made to a municipality by developers on a cash-in-lieu basis to fulfill requirements for dedicating land for public parks or open spaces. In some cases\, developers may find it difficult to dedicate land due to site constraints\, land availability\, or project requirements. In these cases\, developers may request to contribute cash to the municipality as an alternative. \nBy using these funds strategically\, municipalities can enhance recreational opportunities\, improve quality of life for residents or promote environmental conservation. \nHow much money is available and why is it directed at specific parks? \nParkland reserves are tied to the geography of the project. In this instance\, development projects within Consecon\, Carrying Place and Ameliasburgh contributed to the Parkland Reserve fund. Funds have been allocated as follows:\n-Roblin Lake Park $90\,000\n-Westfall Park $80\,000\n-Consecon Park $40\,000 \nHow can the funds be used? \nParkland funds are used to add new amenities to make parklands welcoming\, inclusive and accessible to all. It is important to note that the improvements are not for general upgrades and renovations\, but are focused on adding new amenities to parks and\ngreenspaces to increase the value to the greater community. \nWhen are the public meetings scheduled? \n-Monday July 15\, 6:00p-8:00p at Roblin Lake Park\n-Monday July 22\, 6:00p-8:00p at Westfall Park\n-Monday July 29\, 6:00p-8:00p at Consecon Park \nWhat if I’m unable to attend a public meeting? \nThe public is encouraged to contribute ideas and suggestions via the County’s online public engagement site at https://haveyoursay.thecounty.ca/ or by attending one of the scheduled public meetings.
URL:https://www.thecounty.ca/event/2024-parkland-projects-ameliasburgh-ward-public-meetings/
LOCATION:Roblin Lake Park\, 38 Coleman Street\, Ameliasburgh\, Ontario\, K0K1A0\, Canada
ATTACH;FMTTYPE=image/png:https://www.thecounty.ca/wp-content/uploads/2024/07/parkland-1.png
END:VEVENT
END:VCALENDAR