BEGIN:VCALENDAR
VERSION:2.0
PRODID:-//Prince Edward County Municipal Services - ECPv6.15.18//NONSGML v1.0//EN
CALSCALE:GREGORIAN
METHOD:PUBLISH
X-WR-CALNAME:Prince Edward County Municipal Services
X-ORIGINAL-URL:https://www.thecounty.ca
X-WR-CALDESC:Events for Prince Edward County Municipal Services
REFRESH-INTERVAL;VALUE=DURATION:PT1H
X-Robots-Tag:noindex
X-PUBLISHED-TTL:PT1H
BEGIN:VTIMEZONE
TZID:America/Toronto
BEGIN:DAYLIGHT
TZOFFSETFROM:-0500
TZOFFSETTO:-0400
TZNAME:EDT
DTSTART:20230312T070000
END:DAYLIGHT
BEGIN:STANDARD
TZOFFSETFROM:-0400
TZOFFSETTO:-0500
TZNAME:EST
DTSTART:20231105T060000
END:STANDARD
BEGIN:DAYLIGHT
TZOFFSETFROM:-0500
TZOFFSETTO:-0400
TZNAME:EDT
DTSTART:20240310T070000
END:DAYLIGHT
BEGIN:STANDARD
TZOFFSETFROM:-0400
TZOFFSETTO:-0500
TZNAME:EST
DTSTART:20241103T060000
END:STANDARD
BEGIN:DAYLIGHT
TZOFFSETFROM:-0500
TZOFFSETTO:-0400
TZNAME:EDT
DTSTART:20250309T070000
END:DAYLIGHT
BEGIN:STANDARD
TZOFFSETFROM:-0400
TZOFFSETTO:-0500
TZNAME:EST
DTSTART:20251102T060000
END:STANDARD
END:VTIMEZONE
BEGIN:VEVENT
DTSTART;TZID=America/Toronto:20240716T180000
DTEND;TZID=America/Toronto:20240716T200000
DTSTAMP:20260419T082804
CREATED:20240704T172557Z
LAST-MODIFIED:20240704T172557Z
UID:50480-1721152800-1721160000@www.thecounty.ca
SUMMARY:Public Consultation Centre: Transportation Master Plan
DESCRIPTION:A third and final public consultation centre (PCC) for the Transportation Master Plan (TMP) amendment for Picton will take place on Tuesday\, July 16. \nThe PCC will be held at the Prince Edward Community Centre (375 Picton Main Street). The PCC will take place from 6-8 pm and follow a drop-in format. \nAt the PCC\, the study team will provide a summary of the feedback received to date. The team will also present and gather feedback on the evaluation of alternative solutions\, recommended solutions\, and next steps in the study process. Members of the study team will be present to answer any questions. \nThe County of Prince Edward completed a County-wide TMP in 2021. The municipality is undertaking an amendment of the TMP for the Picton Settlement Area. The amendment is now required due to a higher level of growth projected within the study area\, beyond what was assumed as part of the 2021 TMP. \nThe TMP will assess the short- and long-term transportation infrastructure needs and deficiencies within Picton. The plan will identify improvements to the multi-modal transportation network in order to address existing and future travel demands. \nPublic consultation is an important part of the TMP. The first PCC was held on December 12\, 2023 and introduced the study. The second PCC was held on April 3\, 2024 to present and gather feedback on preliminary findings of the technical and environmental studies and preliminary alternative solutions Visit the County website to learn more about this study. \n  \nIf you want to be added to the project contact list to receive notices and information\, or to provide comments at any time during the process\, please contact Jeff Shortt\, Project Manager\, at 613.476.2148 extension 1007 or email jshortt@pecounty.on.ca.
URL:https://www.thecounty.ca/event/public-consultation-centre-transportation-master-plan/
LOCATION:Prince Edward Community Centre\, 375 Picton Main Street\, Picton\, Ontario\, K0K2T0\, Canada
ATTACH;FMTTYPE=image/png:https://www.thecounty.ca/wp-content/uploads/2022/06/Planning-Meeting-2.png
END:VEVENT
END:VCALENDAR