BEGIN:VCALENDAR
VERSION:2.0
PRODID:-//Prince Edward County Municipal Services - ECPv6.15.18//NONSGML v1.0//EN
CALSCALE:GREGORIAN
METHOD:PUBLISH
X-WR-CALNAME:Prince Edward County Municipal Services
X-ORIGINAL-URL:https://www.thecounty.ca
X-WR-CALDESC:Events for Prince Edward County Municipal Services
REFRESH-INTERVAL;VALUE=DURATION:PT1H
X-Robots-Tag:noindex
X-PUBLISHED-TTL:PT1H
BEGIN:VTIMEZONE
TZID:America/Toronto
BEGIN:DAYLIGHT
TZOFFSETFROM:-0500
TZOFFSETTO:-0400
TZNAME:EDT
DTSTART:20250309T070000
END:DAYLIGHT
BEGIN:STANDARD
TZOFFSETFROM:-0400
TZOFFSETTO:-0500
TZNAME:EST
DTSTART:20251102T060000
END:STANDARD
BEGIN:DAYLIGHT
TZOFFSETFROM:-0500
TZOFFSETTO:-0400
TZNAME:EDT
DTSTART:20260308T070000
END:DAYLIGHT
BEGIN:STANDARD
TZOFFSETFROM:-0400
TZOFFSETTO:-0500
TZNAME:EST
DTSTART:20261101T060000
END:STANDARD
BEGIN:DAYLIGHT
TZOFFSETFROM:-0500
TZOFFSETTO:-0400
TZNAME:EDT
DTSTART:20270314T070000
END:DAYLIGHT
BEGIN:STANDARD
TZOFFSETFROM:-0400
TZOFFSETTO:-0500
TZNAME:EST
DTSTART:20271107T060000
END:STANDARD
END:VTIMEZONE
BEGIN:VEVENT
DTSTART;TZID=America/Toronto:20260323T180000
DTEND;TZID=America/Toronto:20260323T200000
DTSTAMP:20260419T082833
CREATED:20260320T184311Z
LAST-MODIFIED:20260320T184406Z
UID:68532-1774288800-1774296000@www.thecounty.ca
SUMMARY:Public Information Centre: Bloomfield Main Street rehabilitation
DESCRIPTION:The County of Prince Edward will share more details about the construction schedule and the staging plans for the Bloomfield Main Street rehabilitation project at the second public information centre (PIC) on Monday\, March 23. \nThe in-person PIC will take place from 6 – 8 pm at the Bloomfield Town Hall (289 Bloomfield Main Street). Staff will provide a presentation starting at 6:30 pm. \nFollowing the in-person PIC\, a virtual event will occur on Thursday\, March 26 beginning at 6 pm. Please use this link to access the session. \nThe scope of the work between Corey Street and County Road 33 includes: \n\nRemoval of existing asphalt surface\nPlacement of 100mm of new hot mix asphalt\nReplacement of approximately 10 storm sewer sections\nReplacement of deteriorated curb sections\nMinor sidewalk panel replacements\nReplacement of west boulevard with new asphalt\nReplacement of east boulevard with stamped concrete (provisional)\nLine painting\n\nThe work will take place between April – June 2026. The road will always remain open with one lane of traffic\, and the work will be done in sections to help minimize disruption. \nThe Province of Ontario is covering 90 per cent of the project costs under the Connecting Links program. \nVisit the project webpage to learn more. If you have any questions\, please contact Garrett Osborne\, Project Manager\, at 613.476.2148 extension 2002 or email gosborne@pecounty.on.ca.
URL:https://www.thecounty.ca/event/public-information-centre-bloomfield-main-street-rehabilitation/
LOCATION:Bloomfield Town Hall\, 289 Main Street\, Bloomfield\, Ontario\, Canada
ATTACH;FMTTYPE=image/png:https://www.thecounty.ca/wp-content/uploads/2026/03/bloomfield-PIC.png
END:VEVENT
END:VCALENDAR