BEGIN:VCALENDAR
VERSION:2.0
PRODID:-//Prince Edward County Municipal Services - ECPv6.15.20//NONSGML v1.0//EN
CALSCALE:GREGORIAN
METHOD:PUBLISH
X-ORIGINAL-URL:https://www.thecounty.ca
X-WR-CALDESC:Events for Prince Edward County Municipal Services
REFRESH-INTERVAL;VALUE=DURATION:PT1H
X-Robots-Tag:noindex
X-PUBLISHED-TTL:PT1H
BEGIN:VTIMEZONE
TZID:America/Toronto
BEGIN:DAYLIGHT
TZOFFSETFROM:-0500
TZOFFSETTO:-0400
TZNAME:EDT
DTSTART:20210314T070000
END:DAYLIGHT
BEGIN:STANDARD
TZOFFSETFROM:-0400
TZOFFSETTO:-0500
TZNAME:EST
DTSTART:20211107T060000
END:STANDARD
BEGIN:DAYLIGHT
TZOFFSETFROM:-0500
TZOFFSETTO:-0400
TZNAME:EDT
DTSTART:20220313T070000
END:DAYLIGHT
BEGIN:STANDARD
TZOFFSETFROM:-0400
TZOFFSETTO:-0500
TZNAME:EST
DTSTART:20221106T060000
END:STANDARD
BEGIN:DAYLIGHT
TZOFFSETFROM:-0500
TZOFFSETTO:-0400
TZNAME:EDT
DTSTART:20230312T070000
END:DAYLIGHT
BEGIN:STANDARD
TZOFFSETFROM:-0400
TZOFFSETTO:-0500
TZNAME:EST
DTSTART:20231105T060000
END:STANDARD
BEGIN:DAYLIGHT
TZOFFSETFROM:-0500
TZOFFSETTO:-0400
TZNAME:EDT
DTSTART:20240310T070000
END:DAYLIGHT
BEGIN:STANDARD
TZOFFSETFROM:-0400
TZOFFSETTO:-0500
TZNAME:EST
DTSTART:20241103T060000
END:STANDARD
END:VTIMEZONE
BEGIN:VEVENT
DTSTART;TZID=America/Toronto:20230701T190000
DTEND;TZID=America/Toronto:20230701T220000
DTSTAMP:20260423T060659
CREATED:20230609T160607Z
LAST-MODIFIED:20230630T180056Z
UID:39442-1688238000-1688248800@www.thecounty.ca
SUMMARY:Canada Day Fireworks at Roblin Lake- Postponed
DESCRIPTION:All of the following events have been postponed due to weather concerns. The activities will be rescheduled at a later date. \nThe Ameliasburgh Recreation Committee Presents: \n8am -11am: Pancake Breakfast – By Prince Edward Auto Club \n1:00pm – Roblin Lake Boat Parade \n7:00pm – 9:30pm – Family Games \n7:30pm: Children’s’ Scavenger Hunt \n8:00pm Free Reids Dairy Ice Cream Sundae (while supplies last) \nDusk/10pm – Fireworks Display by Air Artisans \n*Free admission and parking
URL:https://www.thecounty.ca/event/canada-day-fireworks-at-roblin-lake/
LOCATION:Roblin Lake Park\, 38 Coleman Street\, Ameliasburgh\, Ontario\, K0K1A0\, Canada
CATEGORIES:PECelebrates
ATTACH;FMTTYPE=image/jpeg:https://www.thecounty.ca/wp-content/uploads/2023/06/Ameliasburgh-July-1.jpg
END:VEVENT
BEGIN:VEVENT
DTSTART;TZID=America/Toronto:20220701T140000
DTEND;TZID=America/Toronto:20220701T230000
DTSTAMP:20260423T060659
CREATED:20220627T203618Z
LAST-MODIFIED:20220627T203618Z
UID:25755-1656684000-1656716400@www.thecounty.ca
SUMMARY:Canada Day at Roblin Lake Park
DESCRIPTION:Ameliasburgh Recreation Board presents: Happy Canada Day! Celebrate\, Canada \n2:00 pm – Roblin Lake boat parade \n7:00 – 9:45 pm – Music by Roadhouse Rockers \n7:00 – 9:30 pm – Family games \n7:30 pm – Children’s scavenger hunt \n8:00 pm – Free Reid’s Dairy ice cream sundaes \nDusk/10pm – Fireworks display by Air Artisans \nAt Roblin Lake Park. Free Admission and Parking.
URL:https://www.thecounty.ca/event/canada-day-at-roblin-lake-park/
LOCATION:Roblin Lake Park\, 38 Coleman Street\, Ameliasburgh\, Ontario\, K0K1A0\, Canada
CATEGORIES:Community,PECelebrates
ATTACH;FMTTYPE=image/png:https://www.thecounty.ca/wp-content/uploads/2022/06/Wellington-market-1.png
END:VEVENT
END:VCALENDAR