BEGIN:VCALENDAR
VERSION:2.0
PRODID:-//Prince Edward County Municipal Services - ECPv6.15.18//NONSGML v1.0//EN
CALSCALE:GREGORIAN
METHOD:PUBLISH
X-ORIGINAL-URL:https://www.thecounty.ca
X-WR-CALDESC:Events for Prince Edward County Municipal Services
REFRESH-INTERVAL;VALUE=DURATION:PT1H
X-Robots-Tag:noindex
X-PUBLISHED-TTL:PT1H
BEGIN:VTIMEZONE
TZID:America/Toronto
BEGIN:DAYLIGHT
TZOFFSETFROM:-0500
TZOFFSETTO:-0400
TZNAME:EDT
DTSTART:20220313T070000
END:DAYLIGHT
BEGIN:STANDARD
TZOFFSETFROM:-0400
TZOFFSETTO:-0500
TZNAME:EST
DTSTART:20221106T060000
END:STANDARD
BEGIN:DAYLIGHT
TZOFFSETFROM:-0500
TZOFFSETTO:-0400
TZNAME:EDT
DTSTART:20230312T070000
END:DAYLIGHT
BEGIN:STANDARD
TZOFFSETFROM:-0400
TZOFFSETTO:-0500
TZNAME:EST
DTSTART:20231105T060000
END:STANDARD
BEGIN:DAYLIGHT
TZOFFSETFROM:-0500
TZOFFSETTO:-0400
TZNAME:EDT
DTSTART:20240310T070000
END:DAYLIGHT
BEGIN:STANDARD
TZOFFSETFROM:-0400
TZOFFSETTO:-0500
TZNAME:EST
DTSTART:20241103T060000
END:STANDARD
BEGIN:DAYLIGHT
TZOFFSETFROM:-0500
TZOFFSETTO:-0400
TZNAME:EDT
DTSTART:20250309T070000
END:DAYLIGHT
BEGIN:STANDARD
TZOFFSETFROM:-0400
TZOFFSETTO:-0500
TZNAME:EST
DTSTART:20251102T060000
END:STANDARD
END:VTIMEZONE
BEGIN:VEVENT
DTSTART;TZID=America/Toronto:20240701T130000
DTEND;TZID=America/Toronto:20240701T160000
DTSTAMP:20260420T054605
CREATED:20240614T155119Z
LAST-MODIFIED:20240614T155119Z
UID:49562-1719838800-1719849600@www.thecounty.ca
SUMMARY:PECelebrates- Canada Day at Benson Park
DESCRIPTION:Kickoff summer with Canada Day at Benson Park\, produced in partnership by the Picton BIA and Picton Recreation Committee! There will be a variety of activities for all ages including a dunk tank! Join us for snacks\, live music\, games and all the best summer vibes from 1 pm to 4 pm at Benson Park. The second annual Dog Show Winners will be announced at 2:30 pm\, so come early to sign up by 2 pm and have a chance to win prizes with your furry four-legged friends. Every dog registered gets a swag bag.
URL:https://www.thecounty.ca/event/pecelebrates-canada-day-at-benson-park/
LOCATION:Benson Park\, 56 King Street\, Picton\, Ontario\, K0K 2T0\, Canada
CATEGORIES:PECelebrates
ATTACH;FMTTYPE=image/png:https://www.thecounty.ca/wp-content/uploads/2024/06/pec-calendar.png
END:VEVENT
BEGIN:VEVENT
DTSTART;TZID=America/Toronto:20240629T113000
DTEND;TZID=America/Toronto:20240629T170000
DTSTAMP:20260420T054605
CREATED:20240614T150529Z
LAST-MODIFIED:20240614T150737Z
UID:49545-1719660600-1719680400@www.thecounty.ca
SUMMARY:PECelebrates- Pride in the Park
DESCRIPTION:The Greater Than County Youth Collective is proud to present their third annual Pride in the Park on Saturday\, June 29 from 11:30 am to 5 pm at Benson Park (Picton). This free\, all-ages event will feature a sidewalk pride parade\, a drag show\, dancing\, music\, yoga\, kids story time\, free food\, crafts\, and more. \nThere are still spots for vendors available! If you would like to be a vendor or support this event\, please reach out to: hello@greaterthancyc.ca \nCheck out the Facebook event page for more details!
URL:https://www.thecounty.ca/event/pecelebrates-pride-in-the-park/
LOCATION:Benson Park\, 56 King Street\, Picton\, Ontario\, K0K 2T0\, Canada
CATEGORIES:PECelebrates
ATTACH;FMTTYPE=image/png:https://www.thecounty.ca/wp-content/uploads/2024/06/pec-calendar.png
END:VEVENT
BEGIN:VEVENT
DTSTART;TZID=America/Toronto:20231014T103000
DTEND;TZID=America/Toronto:20231014T130000
DTSTAMP:20260420T054605
CREATED:20230914T154619Z
LAST-MODIFIED:20230914T154928Z
UID:42278-1697279400-1697288400@www.thecounty.ca
SUMMARY:Picton Public Art Walk and Community Conversation
DESCRIPTION:Do you have a vision or specific ideas about public art in Prince Edward County? Share them now and have an impact on how the County supports public art for many years to come. \nCounty Council has directed staff to undertake extensive public consultation\, led by the Prince Edward County Arts Council\, to inform the public art planning process. \nPublic art is created by artists or through artist-led projects and located in freely-accessible public sites. Installations and activations can be permanent or temporary\, and range widely in scope and scale. \nThis is an opportunity for attendees to get out into the community and imagine the public art possibilities. \nThe event will start at Benson Park at 10:30 am\, walk from 10:30 am – 12 pm and end at the County Arts Lab (Picton Armoury) for refreshments and an informal question and engagement session.
URL:https://www.thecounty.ca/event/picton-public-art-walk/
LOCATION:Benson Park\, 56 King Street\, Picton\, Ontario\, K0K 2T0\, Canada
ATTACH;FMTTYPE=image/jpeg:https://www.thecounty.ca/wp-content/uploads/2023/09/art-2.jpg
END:VEVENT
BEGIN:VEVENT
DTSTART;TZID=America/Toronto:20230628T130000
DTEND;TZID=America/Toronto:20230628T170000
DTSTAMP:20260420T054605
CREATED:20230609T160815Z
LAST-MODIFIED:20230616T144412Z
UID:39456-1687957200-1687971600@www.thecounty.ca
SUMMARY:Youth Pride Day at Benson Park
DESCRIPTION:Pride in the Park will take place Wednesday\, June 28 at Benson Park in Picton! \nThis youth-planned event is for everyone\, so bring your family and friends! There will be local vendors\, activities\, and some amazing talent. \nThere are still spots for vendors available! If you would like to be a vendor or support this event\, please reach out to: hello@greaterthancyc.ca \nCheck out the Facebook event page for more details! \n  \nThe County of Prince Edward does not accept responsibility for the accuracy of the content provided in this listing\, nor does inclusion in the PECelebrates calendar constitute endorsement by the County. The listing information has been provided by event organizers. If you have questions about this event\, please contact the organizers directly.
URL:https://www.thecounty.ca/event/youth-pride-day-at-benson-park/
LOCATION:Benson Park\, 56 King Street\, Picton\, Ontario\, K0K 2T0\, Canada
CATEGORIES:PECelebrates
ATTACH;FMTTYPE=image/png:https://www.thecounty.ca/wp-content/uploads/2023/06/youth-pride-1.png
END:VEVENT
END:VCALENDAR