BEGIN:VCALENDAR
VERSION:2.0
PRODID:-//Prince Edward County Municipal Services - ECPv6.15.18//NONSGML v1.0//EN
CALSCALE:GREGORIAN
METHOD:PUBLISH
X-WR-CALNAME:Prince Edward County Municipal Services
X-ORIGINAL-URL:https://www.thecounty.ca
X-WR-CALDESC:Events for Prince Edward County Municipal Services
REFRESH-INTERVAL;VALUE=DURATION:PT1H
X-Robots-Tag:noindex
X-PUBLISHED-TTL:PT1H
BEGIN:VTIMEZONE
TZID:America/Toronto
BEGIN:DAYLIGHT
TZOFFSETFROM:-0500
TZOFFSETTO:-0400
TZNAME:EDT
DTSTART:20250309T070000
END:DAYLIGHT
BEGIN:STANDARD
TZOFFSETFROM:-0400
TZOFFSETTO:-0500
TZNAME:EST
DTSTART:20251102T060000
END:STANDARD
BEGIN:DAYLIGHT
TZOFFSETFROM:-0500
TZOFFSETTO:-0400
TZNAME:EDT
DTSTART:20260308T070000
END:DAYLIGHT
BEGIN:STANDARD
TZOFFSETFROM:-0400
TZOFFSETTO:-0500
TZNAME:EST
DTSTART:20261101T060000
END:STANDARD
BEGIN:DAYLIGHT
TZOFFSETFROM:-0500
TZOFFSETTO:-0400
TZNAME:EDT
DTSTART:20270314T070000
END:DAYLIGHT
BEGIN:STANDARD
TZOFFSETFROM:-0400
TZOFFSETTO:-0500
TZNAME:EST
DTSTART:20271107T060000
END:STANDARD
END:VTIMEZONE
BEGIN:VEVENT
DTSTART;TZID=America/Toronto:20260425T110000
DTEND;TZID=America/Toronto:20260425T150000
DTSTAMP:20260419T082432
CREATED:20260409T203731Z
LAST-MODIFIED:20260409T203731Z
UID:69311-1777114800-1777129200@www.thecounty.ca
SUMMARY:Earth Day Event: PEC Repair Café
DESCRIPTION:Help prevent common household items from ending up in the trash/landfill by bringing them to the PEC Repair Café. It’s an opportunity to have your items repaired for FREE by community volunteers who believe in a shared responsibility of care and maintenance for material items. \nMeet skilled community members who will help you diagnose your repair and take the necessary steps to complete it with you. Organizers will be focused on offering repairs for items in these categories: \n\nFabrics/clothing\nElectronics\nHousehold items\nSmall appliances\nSmall furniture / wooden items\nBicycles\n\nThis event is hosted by Feral Folc at the Picton branch of the Prince Edward County Public Library (223 Picton Main Street).
URL:https://www.thecounty.ca/event/earth-day-event-pec-repair-cafe/
LOCATION:Picton Library\, 208 Main Street\, Picton\, Ontario\, K0K 2T0\, Canada
CATEGORIES:Environment
ATTACH;FMTTYPE=image/png:https://www.thecounty.ca/wp-content/uploads/2026/04/repair.png
END:VEVENT
END:VCALENDAR