BEGIN:VCALENDAR
VERSION:2.0
PRODID:-//Prince Edward County Municipal Services - ECPv6.15.18//NONSGML v1.0//EN
CALSCALE:GREGORIAN
METHOD:PUBLISH
X-ORIGINAL-URL:https://www.thecounty.ca
X-WR-CALDESC:Events for Prince Edward County Municipal Services
REFRESH-INTERVAL;VALUE=DURATION:PT1H
X-Robots-Tag:noindex
X-PUBLISHED-TTL:PT1H
BEGIN:VTIMEZONE
TZID:America/Toronto
BEGIN:DAYLIGHT
TZOFFSETFROM:-0500
TZOFFSETTO:-0400
TZNAME:EDT
DTSTART:20210314T070000
END:DAYLIGHT
BEGIN:STANDARD
TZOFFSETFROM:-0400
TZOFFSETTO:-0500
TZNAME:EST
DTSTART:20211107T060000
END:STANDARD
BEGIN:DAYLIGHT
TZOFFSETFROM:-0500
TZOFFSETTO:-0400
TZNAME:EDT
DTSTART:20220313T070000
END:DAYLIGHT
BEGIN:STANDARD
TZOFFSETFROM:-0400
TZOFFSETTO:-0500
TZNAME:EST
DTSTART:20221106T060000
END:STANDARD
BEGIN:DAYLIGHT
TZOFFSETFROM:-0500
TZOFFSETTO:-0400
TZNAME:EDT
DTSTART:20230312T070000
END:DAYLIGHT
BEGIN:STANDARD
TZOFFSETFROM:-0400
TZOFFSETTO:-0500
TZNAME:EST
DTSTART:20231105T060000
END:STANDARD
BEGIN:DAYLIGHT
TZOFFSETFROM:-0500
TZOFFSETTO:-0400
TZNAME:EDT
DTSTART:20240310T070000
END:DAYLIGHT
BEGIN:STANDARD
TZOFFSETFROM:-0400
TZOFFSETTO:-0500
TZNAME:EST
DTSTART:20241103T060000
END:STANDARD
BEGIN:DAYLIGHT
TZOFFSETFROM:-0500
TZOFFSETTO:-0400
TZNAME:EDT
DTSTART:20250309T070000
END:DAYLIGHT
BEGIN:STANDARD
TZOFFSETFROM:-0400
TZOFFSETTO:-0500
TZNAME:EST
DTSTART:20251102T060000
END:STANDARD
BEGIN:DAYLIGHT
TZOFFSETFROM:-0500
TZOFFSETTO:-0400
TZNAME:EDT
DTSTART:20260308T070000
END:DAYLIGHT
BEGIN:STANDARD
TZOFFSETFROM:-0400
TZOFFSETTO:-0500
TZNAME:EST
DTSTART:20261101T060000
END:STANDARD
END:VTIMEZONE
BEGIN:VEVENT
DTSTART;TZID=America/Toronto:20250916T140000
DTEND;TZID=America/Toronto:20250916T150000
DTSTAMP:20260419T085816
CREATED:20250911T155636Z
LAST-MODIFIED:20250911T155636Z
UID:63443-1758031200-1758034800@www.thecounty.ca
SUMMARY:​The County Foundation- ​​In-Kind Funding Webinar
DESCRIPTION:Join representatives from the municipality and The County Foundation for an in-kind funding webinar on Tuesday\, September 16 from 2-3 pm. They will walk participants through the latest program changes\, answer questions\, and share tips to help strengthen your application. The event is free\, but registration is required. Click here to register for the webinar. \nMore Information: \nApplications are open for the secondary intake of in-kind funding from the County of Prince Edward\, offering valuable support to help bring your community-focused projects and initiatives to life. \nThe deadline to apply for in-kind funding through the Municipal Community Grants program is October 6\, 2025 at 4 pm.  \nIn-kind funding refers to municipal services or resources that support the work of an organization by helping reduce the cost of the work or initiative proposed. Some examples of in-kind contributions include use of municipal venues\, services\, equipment\, or labour as valued by the Fees and Charges By-Law. \nOrganizations that provide programs\, services or activities in culture\, heritage\, recreation\, environment\, and health and human services can apply for up to $2\,000 per year for in-kind funding. Applicants can apply twice a year for in-kind funding during the primary or secondary intakes unless they have received the maximum grant size during the primary intake. \nThe 2025 secondary intake covers activities taking place from October 1\, 2025 to May 31\, 2026. For activities taking place after May 31\, 2026\, organizations should apply during the 2026 primary intake. \nThrough a partnership agreement\, The County Foundation administers all streams of grant applications. Application forms and more information are available on The County Foundation’s website.
URL:https://www.thecounty.ca/event/the-county-foundation-in-kind-funding-webinar/
LOCATION:Virtual
ATTACH;FMTTYPE=image/png:https://www.thecounty.ca/wp-content/uploads/2025/09/fall-grant-calendar.png
END:VEVENT
BEGIN:VEVENT
DTSTART;TZID=America/Toronto:20250703T190000
DTEND;TZID=America/Toronto:20250703T210000
DTSTAMP:20260419T085816
CREATED:20250625T160929Z
LAST-MODIFIED:20250625T161046Z
UID:61620-1751569200-1751576400@www.thecounty.ca
SUMMARY:Public Virtual Workshop: Help shape the future of transit in Prince Edward County
DESCRIPTION:Photo by: Jacob Côté Photography \nPrince Edward County is refreshing its transit strategy\, and the public is invited to provide input. \nJoin staff of the municipality for an interactive\, online workshop on Thursday\, July 3 from 7 pm to 9 pm to explore ideas and possibilities for the future of County Transit. The workshop will be held on Microsoft Teams. Please register in advance for the meeting link by clicking here. \nThis is a chance for the public to help shape a system that works better for everyone who lives\, works and travels in Prince Edward County. \nDuring the session\, participants will learn about three potential transit scenarios developed by the transit experts at Left Turn Right Turn. These ideas are based on: \n\nA deep dive into our current transit system\nFeedback already received from nearly 200 residents and local businesses through surveys\, focus groups and interviews\nTransit lessons learned in other rural communities like ours.\n\nFeedback received during this session will help guide the next phase of strategy development. This project will result in recommendations for a transit plan that will be presented to Council this fall\, with implementation planned for 2026. \nIf you are unable to join on July 3\, please contact Vincent de Tourdonnet\, Transit Coordinator\, for information on how to get involved (vdetourdonnet@pecounty.on.ca / 343.645.2542). You can also save the date for the next public engagement event scheduled for the evening of August 18\, in person in Picton. \nClick here to learn more about County Transit and the Transit Strategy Refresh.
URL:https://www.thecounty.ca/event/public-virtual-workshop-help-shape-the-future-of-transit-in-prince-edward-county/
LOCATION:Virtual
ATTACH;FMTTYPE=image/jpeg:https://www.thecounty.ca/wp-content/uploads/2025/06/prince_edward_county_transit_web-13.jpg
END:VEVENT
BEGIN:VEVENT
DTSTART;TZID=America/Toronto:20250312T100000
DTEND;TZID=America/Toronto:20250312T120000
DTSTAMP:20260419T085816
CREATED:20250107T184737Z
LAST-MODIFIED:20250211T185009Z
UID:55368-1741773600-1741780800@www.thecounty.ca
SUMMARY:Rental Housing Workshop: Housing for New County Residents
DESCRIPTION:This session is designed for international immigrants and Canadians from other regions who are new to the County and looking to learn about housing in the County. \n\nfinding housing in the County\nconnecting to the word-of-mouth network\nrights and responsibilities of a tenant\nrights and responsibilities of a property owner\n\nTo register for this free workshop\, please email housinghelp@pecounty.on.ca or call 613.476.2148 extension 1069. \nPartners: QLIP
URL:https://www.thecounty.ca/event/rental-housing-workshop-housing-for-new-immigrant-residents-2/
LOCATION:Virtual
ATTACH;FMTTYPE=image/png:https://www.thecounty.ca/wp-content/uploads/2025/01/house1.png
END:VEVENT
BEGIN:VEVENT
DTSTART;TZID=America/Toronto:20250226T140000
DTEND;TZID=America/Toronto:20250226T153000
DTSTAMP:20260419T085816
CREATED:20250107T184410Z
LAST-MODIFIED:20250107T184410Z
UID:55365-1740578400-1740583800@www.thecounty.ca
SUMMARY:Rental Housing Workshop: Eviction Prevention for Property Owners
DESCRIPTION:In this workshop we will discuss what you can do to prevent having to evict tenants: \n\nchoosing the right tenants for you\ncreating a mediated agreement to resolve issues\nalternative resources for rent backlogs\n\nTo register for this free workshop\, please email housinghelp@pecounty.on.ca or call 613.476.2148 extension 1069. \nPartners: CALC
URL:https://www.thecounty.ca/event/rental-housing-workshop-eviction-prevention-for-property-owners-2/
LOCATION:Virtual
ATTACH;FMTTYPE=image/png:https://www.thecounty.ca/wp-content/uploads/2025/01/house1.png
END:VEVENT
BEGIN:VEVENT
DTSTART;TZID=America/Toronto:20241023T140000
DTEND;TZID=America/Toronto:20241023T160000
DTSTAMP:20260419T085816
CREATED:20240909T182650Z
LAST-MODIFIED:20240909T182729Z
UID:52358-1729692000-1729699200@www.thecounty.ca
SUMMARY:Rental Housing Workshop: Eviction prevention for property owners
DESCRIPTION:The County of Prince Edward is excited to present a series of six free workshops on the topic of rental housing. \nThere will be three sessions for tenants and three sessions for property owners. \n“Our hope is to increase the capacity of both tenants and property owners to understand their rights and how they can ensure successful tenancies\,” said Elis Ziegler\, Affordable Housing Supervisor.  “The municipality understands that this community faces affordable housing challenges. Helping tenants and property owners is one way to stabilize housing and make a difference toward stable tenancies.” \nThe municipality will be working with local partners to ensure that tenants and property owners receive as much information as possible and can access support programs. \nThe series of free fall workshops: \n\nTenant fundamentals: Picton Town Hall\, September 11\, 2 – 4 pm\nProperty owner fundamentals: Virtual\, September 25\, 10 am – 12 pm noon\nHousing for new immigrant residents\, Virtual\, October 9\, 10 am – 12:00 pm noon\nEviction prevention for property owners\, Virtual\, October 23\, 2 – 4 pm\nAffordable housing for tenants\, Picton Town Hall\, November 6\, 6 – 8 pm\nAffordable housing for property owners\, Picton Town Hall\, November 20\, 6 – 8 pm\n\nTo register\, please email housinghelp@pecounty.on.ca or call 613.476.2148 extension 1069.
URL:https://www.thecounty.ca/event/rental-housing-workshop-eviction-prevention-for-property-owners/
LOCATION:Virtual
ATTACH;FMTTYPE=image/png:https://www.thecounty.ca/wp-content/uploads/2024/09/house.png
END:VEVENT
BEGIN:VEVENT
DTSTART;TZID=America/Toronto:20241009T100000
DTEND;TZID=America/Toronto:20241009T120000
DTSTAMP:20260419T085816
CREATED:20240909T182434Z
LAST-MODIFIED:20240909T182434Z
UID:52356-1728468000-1728475200@www.thecounty.ca
SUMMARY:Rental Housing Workshop: Housing for new immigrant residents
DESCRIPTION:The County of Prince Edward is excited to present a series of six free workshops on the topic of rental housing. \nThere will be three sessions for tenants and three sessions for property owners. \n“Our hope is to increase the capacity of both tenants and property owners to understand their rights and how they can ensure successful tenancies\,” said Elis Ziegler\, Affordable Housing Supervisor.  “The municipality understands that this community faces affordable housing challenges. Helping tenants and property owners is one way to stabilize housing and make a difference toward stable tenancies.” \nThe municipality will be working with local partners to ensure that tenants and property owners receive as much information as possible and can access support programs. \nThe series of free fall workshops: \n\nTenant fundamentals: Picton Town Hall\, September 11\, 2 – 4 pm\nProperty owner fundamentals: Virtual\, September 25\, 10 am – 12 pm noon\nHousing for new immigrant residents\, Virtual\, October 9\, 10 am – 12:00 pm noon\nEviction prevention for property owners\, Virtual\, October 23\, 2 – 4 pm\nAffordable housing for tenants\, Picton Town Hall\, November 6\, 6 – 8 pm\nAffordable housing for property owners\, Picton Town Hall\, November 20\, 6 – 8 pm\n\nTo register\, please email housinghelp@pecounty.on.ca or call 613.476.2148 extension 1069.
URL:https://www.thecounty.ca/event/rental-housing-workshop-housing-for-new-immigrant-residents/
LOCATION:Virtual
ATTACH;FMTTYPE=image/png:https://www.thecounty.ca/wp-content/uploads/2024/09/house.png
END:VEVENT
BEGIN:VEVENT
DTSTART;TZID=America/Toronto:20241003T180000
DTEND;TZID=America/Toronto:20241003T200000
DTSTAMP:20260419T085816
CREATED:20240918T181842Z
LAST-MODIFIED:20241003T130806Z
UID:52537-1727978400-1727985600@www.thecounty.ca
SUMMARY:Virtual Public Open House: Cultural Heritage Master Plan
DESCRIPTION:The municipality is seeking public input on the development of a Cultural Heritage Master Plan (CHMP) for the County. \nThis plan will help manage and protect Prince Edward County’s built heritage resources and cultural heritage landscapes. \nThe CHMP will align with the municipality’s Strategic Plan and heritage planning goals and will build upon the municipality’s Heritage Conservation Strategy (2011). \nWSP Consultants has been retained to develop the CHMP. \nTo register: Email Scott Pordham at spordham@pecounty.on.ca to request a Zoom meeting registration link for the virtual open house.
URL:https://www.thecounty.ca/event/virtual-public-open-house-cultural-heritage-master-plan/
LOCATION:Virtual
ATTACH;FMTTYPE=image/jpeg:https://www.thecounty.ca/wp-content/uploads/2024/09/cultural-heritage.jpg
END:VEVENT
BEGIN:VEVENT
DTSTART;TZID=America/Toronto:20240925T100000
DTEND;TZID=America/Toronto:20240925T120000
DTSTAMP:20260419T085816
CREATED:20240909T182211Z
LAST-MODIFIED:20240909T182211Z
UID:52354-1727258400-1727265600@www.thecounty.ca
SUMMARY:Rental Housing Workshop: Property Owner Fundamentals
DESCRIPTION:The County of Prince Edward is excited to present a series of six free workshops on the topic of rental housing. \nThere will be three sessions for tenants and three sessions for property owners. \n“Our hope is to increase the capacity of both tenants and property owners to understand their rights and how they can ensure successful tenancies\,” said Elis Ziegler\, Affordable Housing Supervisor.  “The municipality understands that this community faces affordable housing challenges. Helping tenants and property owners is one way to stabilize housing and make a difference toward stable tenancies.” \nThe municipality will be working with local partners to ensure that tenants and property owners receive as much information as possible and can access support programs. \nThe series of free fall workshops: \n\nTenant fundamentals: Picton Town Hall\, September 11\, 2 – 4 pm\nProperty owner fundamentals: Virtual\, September 25\, 10 am – 12 pm noon\nHousing for new immigrant residents\, Virtual\, October 9\, 10 am – 12:00 pm noon\nEviction prevention for property owners\, Virtual\, October 23\, 2 – 4 pm\nAffordable housing for tenants\, Picton Town Hall\, November 6\, 6 – 8 pm\nAffordable housing for property owners\, Picton Town Hall\, November 20\, 6 – 8 pm\n\nTo register\, please email housinghelp@pecounty.on.ca or call 613.476.2148 extension 1069.
URL:https://www.thecounty.ca/event/rental-housing-workshop-property-owner-fundamentals/
LOCATION:Virtual
ATTACH;FMTTYPE=image/png:https://www.thecounty.ca/wp-content/uploads/2024/09/house.png
END:VEVENT
BEGIN:VEVENT
DTSTART;VALUE=DATE:20240503
DTEND;VALUE=DATE:20240504
DTSTAMP:20260419T085816
CREATED:20240404T123345Z
LAST-MODIFIED:20240404T123345Z
UID:47089-1714694400-1714780799@www.thecounty.ca
SUMMARY:Deadline to Submit Comments for Picton Transportation Master Plan Amendement
DESCRIPTION:The deadline to submit comments on the slides presented at the second Public Consultation Centre (PCC) for the Picton Transportation Master Plan amendment is Friday\, May 3. Comments can be submitted to Jeff Shortt\, Project Manager\, at jshortt@pecounty.on.ca. \nClick here to learn more about the project and to view the slides. \nOverview of the project:  \nThe County of Prince Edward is completing a Transportation Master Plan (TMP) for the Picton Settlement Area. \nA higher level of growth is projected within the study area\, beyond what was assumed as part of the County-wide TMP completed in 2021. The TMP for the Picton Settlement Area will assess transportation infrastructure needs and priorities based on the existing and planned development within the study area. The TMP will identify improvements to the multi-modal transportation network in order to efficiently address existing and future travel demands.
URL:https://www.thecounty.ca/event/deadline-to-submit-comments-for-picton-transportation-master-plan-amendement/
LOCATION:Virtual
ATTACH;FMTTYPE=image/png:https://www.thecounty.ca/wp-content/uploads/2023/11/Untitled-design.png
END:VEVENT
BEGIN:VEVENT
DTSTART;TZID=America/Toronto:20240418T180000
DTEND;TZID=America/Toronto:20240418T193000
DTSTAMP:20260419T085816
CREATED:20240320T141338Z
LAST-MODIFIED:20240320T141901Z
UID:46494-1713463200-1713468600@www.thecounty.ca
SUMMARY:Drinking Water Wise Webinar
DESCRIPTION:Cataraqui and Quinte Conservation are hosting an educational webinar on April 18 from 6 pm – 7:30 pm. The Drinking Water Wise Webinar series offers information and suggestions to Ontario residents about how they can protect their sources of drinking water. To date\, topics covered include Harmful Algal Blooms\, Well Care 101\, Septic Systems 101\, and Realty and Rural Drinking Water. All webinars are recorded for future viewing. \nIn this one-hour presentation\, Dr. Anna Majury\, Clinical Microbiologist at Public Health Ontario\, will provide information about how water quality influences human health\, how to avoid contaminated drinking water and the impacts of consuming contaminated water.
URL:https://www.thecounty.ca/event/drinking-water-wise-webinar/
LOCATION:Virtual
ATTACH;FMTTYPE=image/png:https://www.thecounty.ca/wp-content/uploads/2024/03/Rural-Drinking-Water-Human-Health.png
END:VEVENT
BEGIN:VEVENT
DTSTART;TZID=America/Toronto:20230620T180000
DTEND;TZID=America/Toronto:20230620T200000
DTSTAMP:20260419T085816
CREATED:20230609T161317Z
LAST-MODIFIED:20230609T161317Z
UID:39451-1687284000-1687291200@www.thecounty.ca
SUMMARY:Empowering Families\, Friends and Allies of Queer Youth in Rural Communities
DESCRIPTION:This is a “by donation” virtual workshop for families\, friends and allies of Queer Youth presented by Bridging with Support. \nParticipants will: \n\nGain a better understanding of basic concepts and terminology related to Queer culture\nLearn Queer specific challenges facing kids and teens\nIdentify resources and supports available to Queer kids and their families\nDevelop functional ways to address anti-queer comments made by others\nHave an opportunity to ask questions in a judgement free space\n\nClick here to register: https://forms.gle/ZkbtYeipsdjbiXd46 \nMore information: \nContact rachel@cwcp.ca. \nFacebook \nInstagram \n  \nThe County of Prince Edward does not accept responsibility for the accuracy of the content provided in this listing\, nor does inclusion in the PECelebrates calendar constitute endorsement by the County. The listing information has been provided by event organizers. If you have questions about this event\, please contact the organizers directly.
URL:https://www.thecounty.ca/event/empowering-families-friends-and-allies-of-queer-youth-in-rural-communities/
LOCATION:Virtual
CATEGORIES:PECelebrates
ATTACH;FMTTYPE=image/jpeg:https://www.thecounty.ca/wp-content/uploads/2023/06/Bridging-with-Support.jpg
ORGANIZER;CN="Bridging with Support":MAILTO:info@bwsfoundation.ca
END:VEVENT
BEGIN:VEVENT
DTSTART;TZID=America/Toronto:20230502T190000
DTEND;TZID=America/Toronto:20230502T210000
DTSTAMP:20260419T085816
CREATED:20230419T144926Z
LAST-MODIFIED:20230419T145028Z
UID:37654-1683054000-1683061200@www.thecounty.ca
SUMMARY:Virtual Public Meeting: Tulip Estates Subdivision (12697 Loyalist Parkway)
DESCRIPTION:A virtual public information meeting will take place on Tuesday\, May 2 at 7 pm for the planning applications 13-T-19-504 & Z58-19. \nThe County has received applications for a draft plan of subdivision and zoning by-law amendment located at 12697 Loyalist Parkway in the wards of Picton and Bloomfield/Hallowell. \nThe applications would result in the creation of a new subdivision with access onto Loyalist Parkway and the extension of Owen Street. The approval would facilitate the development of 199-325 residential units. \nMembers of the public who wish to attend the virtual public meeting must register by contacting mcoffey@pecounty.on.ca by noon on Monday\, May 1. The meeting will be held virtually on Microsoft Teams. If you have any questions regarding accessing Microsoft Teams please contact Matt Coffey by email. \nMaterials for the applications can be viewed on The County’s website. \nThis public meeting is an information meeting only. Public information meetings are held as part of the planning application process. \nAt a public information meeting\, the proponent/agent will present the proposal. If any member of the public would like to ask questions or make comments\, they will be able to do so after the presentation by the applicant. \nThe statutory public meeting required under the Planning Act will be a Planning and Development Committee meeting. The statutory public meeting would only be held after the public information meeting and when the assigned County planner has completed an analysis of the project.
URL:https://www.thecounty.ca/event/virtual-public-meeting-tulip-estates-subdivision-12697-loyalist-parkway/
LOCATION:Virtual
ATTACH;FMTTYPE=image/png:https://www.thecounty.ca/wp-content/uploads/2022/05/Planning-Meeting.png
END:VEVENT
BEGIN:VEVENT
DTSTART;TZID=America/Toronto:20230329T180000
DTEND;TZID=America/Toronto:20230329T200000
DTSTAMP:20260419T085816
CREATED:20230313T134202Z
LAST-MODIFIED:20230313T134202Z
UID:36221-1680112800-1680120000@www.thecounty.ca
SUMMARY:Virtual Public Meeting for 7 Acre Subdivision
DESCRIPTION:A virtual public information meeting will take place on Wednesday\, March 29th at 6 pm for the planning applications 13-T-22-502 & Z30-22. \nThe County has received applications for a draft plan of subdivision and zoning by-law amendment for a subdivision along adjacent to the existing West Meadows Subdivision in the Ward of Bloomfield/Hallowell. The applications would result in an extension of the West Meadows subdivision and permit the develop of 15 single detached lots and 43 townhouse units. \nMembers of the public who wish to attend the virtual public meeting must register by contacting mcoffey@pecounty.on.ca by noon on Monday\, March 17\, 2023.  The meeting will be held virtually on Microsoft Teams. If you have any questions regarding accessing Microsoft Teams please contact Matt Coffey (see email above). \nMaterials for each of the above applications can be viewed on The County’s website.at the following link: \n13-T-22-502 & Z30-22 (7 Acres) – Prince Edward County Municipal Services (thecounty.ca)  \nNew Planning Application Process \nThis public meeting is an information meeting only. Public information meetings are held as part of the updated planning application process approved in 2021. \nAt a public information meeting\, the proponent/agent will present the proposal. If any member of the public would like to ask questions or make comments\, they will be able to do so after the presentation by the applicant. \nThe statutory public meeting required under the Planning Act will be a Planning Committee meeting and would only be held after the public information meeting and when the assigned County planner has completed an analysis of the project.
URL:https://www.thecounty.ca/event/virtual-public-meeting-for-7-acre-subdivision/
LOCATION:Virtual
CATEGORIES:Planning
ATTACH;FMTTYPE=image/png:https://www.thecounty.ca/wp-content/uploads/2022/05/Planning-Meeting.png
END:VEVENT
BEGIN:VEVENT
DTSTART;TZID=America/Toronto:20220817T190000
DTEND;TZID=America/Toronto:20220817T210000
DTSTAMP:20260419T085816
CREATED:20220804T200543Z
LAST-MODIFIED:20220804T200543Z
UID:27031-1660762800-1660770000@www.thecounty.ca
SUMMARY:Public Information Centre - Folkard Lane Development
DESCRIPTION:A virtual public meeting will take place for the planning applications Z5-19 & SP-01-19 (The Views). \nThe County has received revised applications for Zoning By-law Amendment and Site Plan Control approval for a residential development consisting of multi-unit residential buildings and townhomes. The subject lands are currently zoned the Special Rural Residential 1 (RR1-44) Zone\, and Limited Service (LSR) Zone. Through Zoning File Z5-19\, the site is proposed to be zoned as the Special Urban Residential 3 (R3-XX) Zone. Through Site Plan Control Application File No. SP-01-19\, the applicant proposes to implement the development through a detailed plan. The purpose and effect of the applications will be to change the zoning of the subject lands in the Comprehensive Zoning By-Law No. 18-16-2006. \nMembers of the public who wish to attend the virtual public meeting must register by contacting mcoffey@pecounty.on.ca by noon on Monday August 15. The meeting will be held virtually on Microsoft Teams. If you have any questions regarding accessing Microsoft Teams\, please contact Matt Coffey.
URL:https://www.thecounty.ca/event/public-information-centre-folkard-lane-development/
LOCATION:Virtual
CATEGORIES:Planning
ATTACH;FMTTYPE=image/png:https://www.thecounty.ca/wp-content/uploads/2022/05/Planning-Meeting.png
END:VEVENT
BEGIN:VEVENT
DTSTART;TZID=America/Toronto:20220616T190000
DTEND;TZID=America/Toronto:20220616T210000
DTSTAMP:20260419T085816
CREATED:20220603T191727Z
LAST-MODIFIED:20220603T191727Z
UID:24373-1655406000-1655413200@www.thecounty.ca
SUMMARY:Virtual public meeting - SP-04-22 and Z12-22 (Keros Corporation)
DESCRIPTION:A virtual public information meeting will take place for the planning applications SP-04-22 and Z12-22 (Keros Corporation). \nAn application for a Zoning By-law Amendment and Site Plan Control has been submitted for a proposed 12-unit rental apartment building at 13 Lake Street in Picton. \nMembers of the public who wish to attend the virtual public meeting must register by contacting James Griffin\, Intermediate Planner\, at jgriffin@pecounty.on.ca by noon on Wednesday\, June 15. The meeting will be held virtually on Microsoft Teams. If you have any questions regarding accessing Microsoft Teams\, please contact Mr. Griffin at the email address above. \nMaterials for each of the above applications can be viewed on The County’s website.
URL:https://www.thecounty.ca/event/virtual-public-meeting-sp-04-22-and-z12-22-keros-corporation/
LOCATION:Virtual
CATEGORIES:Planning
ATTACH;FMTTYPE=image/png:https://www.thecounty.ca/wp-content/uploads/2022/05/Planning-Meeting.png
END:VEVENT
END:VCALENDAR