BEGIN:VCALENDAR
VERSION:2.0
PRODID:-//Prince Edward County Municipal Services - ECPv6.15.18//NONSGML v1.0//EN
CALSCALE:GREGORIAN
METHOD:PUBLISH
X-WR-CALNAME:Prince Edward County Municipal Services
X-ORIGINAL-URL:https://www.thecounty.ca
X-WR-CALDESC:Events for Prince Edward County Municipal Services
REFRESH-INTERVAL;VALUE=DURATION:PT1H
X-Robots-Tag:noindex
X-PUBLISHED-TTL:PT1H
BEGIN:VTIMEZONE
TZID:America/Toronto
BEGIN:DAYLIGHT
TZOFFSETFROM:-0500
TZOFFSETTO:-0400
TZNAME:EDT
DTSTART:20210314T070000
END:DAYLIGHT
BEGIN:STANDARD
TZOFFSETFROM:-0400
TZOFFSETTO:-0500
TZNAME:EST
DTSTART:20211107T060000
END:STANDARD
BEGIN:DAYLIGHT
TZOFFSETFROM:-0500
TZOFFSETTO:-0400
TZNAME:EDT
DTSTART:20220313T070000
END:DAYLIGHT
BEGIN:STANDARD
TZOFFSETFROM:-0400
TZOFFSETTO:-0500
TZNAME:EST
DTSTART:20221106T060000
END:STANDARD
BEGIN:DAYLIGHT
TZOFFSETFROM:-0500
TZOFFSETTO:-0400
TZNAME:EDT
DTSTART:20230312T070000
END:DAYLIGHT
BEGIN:STANDARD
TZOFFSETFROM:-0400
TZOFFSETTO:-0500
TZNAME:EST
DTSTART:20231105T060000
END:STANDARD
BEGIN:DAYLIGHT
TZOFFSETFROM:-0500
TZOFFSETTO:-0400
TZNAME:EDT
DTSTART:20240310T070000
END:DAYLIGHT
BEGIN:STANDARD
TZOFFSETFROM:-0400
TZOFFSETTO:-0500
TZNAME:EST
DTSTART:20241103T060000
END:STANDARD
END:VTIMEZONE
BEGIN:VEVENT
DTSTART;TZID=America/Toronto:20230329T180000
DTEND;TZID=America/Toronto:20230329T200000
DTSTAMP:20260419T101820
CREATED:20230313T134202Z
LAST-MODIFIED:20230313T134202Z
UID:36221-1680112800-1680120000@www.thecounty.ca
SUMMARY:Virtual Public Meeting for 7 Acre Subdivision
DESCRIPTION:A virtual public information meeting will take place on Wednesday\, March 29th at 6 pm for the planning applications 13-T-22-502 & Z30-22. \nThe County has received applications for a draft plan of subdivision and zoning by-law amendment for a subdivision along adjacent to the existing West Meadows Subdivision in the Ward of Bloomfield/Hallowell. The applications would result in an extension of the West Meadows subdivision and permit the develop of 15 single detached lots and 43 townhouse units. \nMembers of the public who wish to attend the virtual public meeting must register by contacting mcoffey@pecounty.on.ca by noon on Monday\, March 17\, 2023.  The meeting will be held virtually on Microsoft Teams. If you have any questions regarding accessing Microsoft Teams please contact Matt Coffey (see email above). \nMaterials for each of the above applications can be viewed on The County’s website.at the following link: \n13-T-22-502 & Z30-22 (7 Acres) – Prince Edward County Municipal Services (thecounty.ca)  \nNew Planning Application Process \nThis public meeting is an information meeting only. Public information meetings are held as part of the updated planning application process approved in 2021. \nAt a public information meeting\, the proponent/agent will present the proposal. If any member of the public would like to ask questions or make comments\, they will be able to do so after the presentation by the applicant. \nThe statutory public meeting required under the Planning Act will be a Planning Committee meeting and would only be held after the public information meeting and when the assigned County planner has completed an analysis of the project.
URL:https://www.thecounty.ca/event/virtual-public-meeting-for-7-acre-subdivision/
LOCATION:Virtual
CATEGORIES:Planning
ATTACH;FMTTYPE=image/png:https://www.thecounty.ca/wp-content/uploads/2022/05/Planning-Meeting.png
END:VEVENT
BEGIN:VEVENT
DTSTART;TZID=America/Toronto:20220817T190000
DTEND;TZID=America/Toronto:20220817T210000
DTSTAMP:20260419T101820
CREATED:20220804T200543Z
LAST-MODIFIED:20220804T200543Z
UID:27031-1660762800-1660770000@www.thecounty.ca
SUMMARY:Public Information Centre - Folkard Lane Development
DESCRIPTION:A virtual public meeting will take place for the planning applications Z5-19 & SP-01-19 (The Views). \nThe County has received revised applications for Zoning By-law Amendment and Site Plan Control approval for a residential development consisting of multi-unit residential buildings and townhomes. The subject lands are currently zoned the Special Rural Residential 1 (RR1-44) Zone\, and Limited Service (LSR) Zone. Through Zoning File Z5-19\, the site is proposed to be zoned as the Special Urban Residential 3 (R3-XX) Zone. Through Site Plan Control Application File No. SP-01-19\, the applicant proposes to implement the development through a detailed plan. The purpose and effect of the applications will be to change the zoning of the subject lands in the Comprehensive Zoning By-Law No. 18-16-2006. \nMembers of the public who wish to attend the virtual public meeting must register by contacting mcoffey@pecounty.on.ca by noon on Monday August 15. The meeting will be held virtually on Microsoft Teams. If you have any questions regarding accessing Microsoft Teams\, please contact Matt Coffey.
URL:https://www.thecounty.ca/event/public-information-centre-folkard-lane-development/
LOCATION:Virtual
CATEGORIES:Planning
ATTACH;FMTTYPE=image/png:https://www.thecounty.ca/wp-content/uploads/2022/05/Planning-Meeting.png
END:VEVENT
BEGIN:VEVENT
DTSTART;TZID=America/Toronto:20220616T190000
DTEND;TZID=America/Toronto:20220616T210000
DTSTAMP:20260419T101820
CREATED:20220603T191727Z
LAST-MODIFIED:20220603T191727Z
UID:24373-1655406000-1655413200@www.thecounty.ca
SUMMARY:Virtual public meeting - SP-04-22 and Z12-22 (Keros Corporation)
DESCRIPTION:A virtual public information meeting will take place for the planning applications SP-04-22 and Z12-22 (Keros Corporation). \nAn application for a Zoning By-law Amendment and Site Plan Control has been submitted for a proposed 12-unit rental apartment building at 13 Lake Street in Picton. \nMembers of the public who wish to attend the virtual public meeting must register by contacting James Griffin\, Intermediate Planner\, at jgriffin@pecounty.on.ca by noon on Wednesday\, June 15. The meeting will be held virtually on Microsoft Teams. If you have any questions regarding accessing Microsoft Teams\, please contact Mr. Griffin at the email address above. \nMaterials for each of the above applications can be viewed on The County’s website.
URL:https://www.thecounty.ca/event/virtual-public-meeting-sp-04-22-and-z12-22-keros-corporation/
LOCATION:Virtual
CATEGORIES:Planning
ATTACH;FMTTYPE=image/png:https://www.thecounty.ca/wp-content/uploads/2022/05/Planning-Meeting.png
END:VEVENT
END:VCALENDAR