BEGIN:VCALENDAR
VERSION:2.0
PRODID:-//Prince Edward County Municipal Services - ECPv6.15.18//NONSGML v1.0//EN
CALSCALE:GREGORIAN
METHOD:PUBLISH
X-ORIGINAL-URL:https://www.thecounty.ca
X-WR-CALDESC:Events for Prince Edward County Municipal Services
REFRESH-INTERVAL;VALUE=DURATION:PT1H
X-Robots-Tag:noindex
X-PUBLISHED-TTL:PT1H
BEGIN:VTIMEZONE
TZID:America/Toronto
BEGIN:DAYLIGHT
TZOFFSETFROM:-0500
TZOFFSETTO:-0400
TZNAME:EDT
DTSTART:20230312T070000
END:DAYLIGHT
BEGIN:STANDARD
TZOFFSETFROM:-0400
TZOFFSETTO:-0500
TZNAME:EST
DTSTART:20231105T060000
END:STANDARD
BEGIN:DAYLIGHT
TZOFFSETFROM:-0500
TZOFFSETTO:-0400
TZNAME:EDT
DTSTART:20240310T070000
END:DAYLIGHT
BEGIN:STANDARD
TZOFFSETFROM:-0400
TZOFFSETTO:-0500
TZNAME:EST
DTSTART:20241103T060000
END:STANDARD
BEGIN:DAYLIGHT
TZOFFSETFROM:-0500
TZOFFSETTO:-0400
TZNAME:EDT
DTSTART:20250309T070000
END:DAYLIGHT
BEGIN:STANDARD
TZOFFSETFROM:-0400
TZOFFSETTO:-0500
TZNAME:EST
DTSTART:20251102T060000
END:STANDARD
END:VTIMEZONE
BEGIN:VEVENT
DTSTART;TZID=America/Toronto:20240701T093000
DTEND;TZID=America/Toronto:20240701T140000
DTSTAMP:20260419T102444
CREATED:20240619T170442Z
LAST-MODIFIED:20240619T170442Z
UID:49739-1719826200-1719842400@www.thecounty.ca
SUMMARY:PECelebrates- Canada Day Strawberry Social
DESCRIPTION:The Wellington Community Market and Wellington United Church present the Canada Day Strawberry Social! \nAll are welcome. Starts at 9:30 am until sold out! \nFresh local strawberries\, cake and ice cream will be served. \nCost is $8 per person\, $5 ages ten and under.
URL:https://www.thecounty.ca/event/pecelebrates-canada-day-strawberry-social/
LOCATION:Wellington United Church\, 243 Wellington Main St\, Wellington\, ON\, Canada
CATEGORIES:PECelebrates
ATTACH;FMTTYPE=image/png:https://www.thecounty.ca/wp-content/uploads/2024/06/pec-calendar.png
END:VEVENT
END:VCALENDAR